BEGIN:VCALENDAR
VERSION:2.0
PRODID:-//Heritage Golf Links - ECPv6.15.18//NONSGML v1.0//EN
CALSCALE:GREGORIAN
METHOD:PUBLISH
X-ORIGINAL-URL:https://www.heritagegolflinks.com
X-WR-CALDESC:Events for Heritage Golf Links
REFRESH-INTERVAL;VALUE=DURATION:PT1H
X-Robots-Tag:noindex
X-PUBLISHED-TTL:PT1H
BEGIN:VTIMEZONE
TZID:UTC
BEGIN:STANDARD
TZOFFSETFROM:+0000
TZOFFSETTO:+0000
TZNAME:UTC
DTSTART:20250101T000000
END:STANDARD
END:VTIMEZONE
BEGIN:VEVENT
DTSTART;TZID=UTC:20260501T060000
DTEND;TZID=UTC:20260501T160000
DTSTAMP:20260424T114635
CREATED:20260225T160221Z
LAST-MODIFIED:20260225T160316Z
UID:10000304-1777615200-1777651200@www.heritagegolflinks.com
SUMMARY:Golf Outing
DESCRIPTION:
URL:https://www.heritagegolflinks.com/event/golf-outing-24/
END:VEVENT
BEGIN:VEVENT
DTSTART;TZID=UTC:20260508T060000
DTEND;TZID=UTC:20260508T160000
DTSTAMP:20260424T114635
CREATED:20260225T160412Z
LAST-MODIFIED:20260225T160458Z
UID:10000305-1778220000-1778256000@www.heritagegolflinks.com
SUMMARY:Golf Outing
DESCRIPTION:
URL:https://www.heritagegolflinks.com/event/golf-outing-25/
END:VEVENT
BEGIN:VEVENT
DTSTART;TZID=UTC:20260511T060000
DTEND;TZID=UTC:20260511T160000
DTSTAMP:20260424T114635
CREATED:20260225T160650Z
LAST-MODIFIED:20260225T160703Z
UID:10000307-1778479200-1778515200@www.heritagegolflinks.com
SUMMARY:Golf Outing
DESCRIPTION:
URL:https://www.heritagegolflinks.com/event/golf-outing-27/
END:VEVENT
BEGIN:VEVENT
DTSTART;TZID=UTC:20260515T060000
DTEND;TZID=UTC:20260515T160000
DTSTAMP:20260424T114635
CREATED:20260225T160746Z
LAST-MODIFIED:20260225T160924Z
UID:10000308-1778824800-1778860800@www.heritagegolflinks.com
SUMMARY:Golf Outing
DESCRIPTION:
URL:https://www.heritagegolflinks.com/event/golf-outing-28/
END:VEVENT
BEGIN:VEVENT
DTSTART;TZID=UTC:20260518T060000
DTEND;TZID=UTC:20260518T160000
DTSTAMP:20260424T114635
CREATED:20260225T161112Z
LAST-MODIFIED:20260225T161126Z
UID:10000309-1779084000-1779120000@www.heritagegolflinks.com
SUMMARY:Golf Outing
DESCRIPTION:
URL:https://www.heritagegolflinks.com/event/golf-outing-29/
END:VEVENT
BEGIN:VEVENT
DTSTART;TZID=UTC:20260521T063000
DTEND;TZID=UTC:20260521T160000
DTSTAMP:20260424T114635
CREATED:20260225T161206Z
LAST-MODIFIED:20260225T164927Z
UID:10000310-1779345000-1779379200@www.heritagegolflinks.com
SUMMARY:Golf Outing
DESCRIPTION:
URL:https://www.heritagegolflinks.com/event/golf-outing-30/
END:VEVENT
END:VCALENDAR