BEGIN:VCALENDAR
VERSION:2.0
PRODID:-//Heritage Golf Links - ECPv6.15.18//NONSGML v1.0//EN
CALSCALE:GREGORIAN
METHOD:PUBLISH
X-WR-CALNAME:Heritage Golf Links
X-ORIGINAL-URL:https://www.heritagegolflinks.com
X-WR-CALDESC:Events for Heritage Golf Links
REFRESH-INTERVAL;VALUE=DURATION:PT1H
X-Robots-Tag:noindex
X-PUBLISHED-TTL:PT1H
BEGIN:VTIMEZONE
TZID:UTC
BEGIN:STANDARD
TZOFFSETFROM:+0000
TZOFFSETTO:+0000
TZNAME:UTC
DTSTART:20250101T000000
END:STANDARD
END:VTIMEZONE
BEGIN:VEVENT
DTSTART;TZID=UTC:20260318T080000
DTEND;TZID=UTC:20260318T153000
DTSTAMP:20260424T114306
CREATED:20260112T164116Z
LAST-MODIFIED:20260112T164119Z
UID:10000298-1773820800-1773847800@www.heritagegolflinks.com
SUMMARY:Outing
DESCRIPTION:
URL:https://www.heritagegolflinks.com/event/outing-9/
END:VEVENT
BEGIN:VEVENT
DTSTART;TZID=UTC:20260319T120000
DTEND;TZID=UTC:20260319T150000
DTSTAMP:20260424T114306
CREATED:20260112T163959Z
LAST-MODIFIED:20260112T164001Z
UID:10000297-1773921600-1773932400@www.heritagegolflinks.com
SUMMARY:Srixon Demo Day
DESCRIPTION:Srixon Demo Day on the Driving Range
URL:https://www.heritagegolflinks.com/event/srixon-demo-day-2/
END:VEVENT
BEGIN:VEVENT
DTSTART;TZID=UTC:20260323T060000
DTEND;TZID=UTC:20260323T160000
DTSTAMP:20260424T114306
CREATED:20260112T164201Z
LAST-MODIFIED:20260112T171018Z
UID:10000299-1774245600-1774281600@www.heritagegolflinks.com
SUMMARY:Outing
DESCRIPTION:
URL:https://www.heritagegolflinks.com/event/outing-10/
END:VEVENT
END:VCALENDAR