BEGIN:VCALENDAR
VERSION:2.0
PRODID:-//Heritage Golf Links - ECPv6.15.18//NONSGML v1.0//EN
CALSCALE:GREGORIAN
METHOD:PUBLISH
X-WR-CALNAME:Heritage Golf Links
X-ORIGINAL-URL:https://www.heritagegolflinks.com
X-WR-CALDESC:Events for Heritage Golf Links
REFRESH-INTERVAL;VALUE=DURATION:PT1H
X-Robots-Tag:noindex
X-PUBLISHED-TTL:PT1H
BEGIN:VTIMEZONE
TZID:UTC
BEGIN:STANDARD
TZOFFSETFROM:+0000
TZOFFSETTO:+0000
TZNAME:UTC
DTSTART:20240101T000000
END:STANDARD
END:VTIMEZONE
BEGIN:VEVENT
DTSTART;TZID=UTC:20251013T053000
DTEND;TZID=UTC:20251013T183000
DTSTAMP:20260425T214341
CREATED:20250613T154207Z
LAST-MODIFIED:20250808T112214Z
UID:10000280-1760333400-1760380200@www.heritagegolflinks.com
SUMMARY:Golf Outing
DESCRIPTION:
URL:https://www.heritagegolflinks.com/event/golf-outing-9/
END:VEVENT
BEGIN:VEVENT
DTSTART;TZID=UTC:20251006T030000
DTEND;TZID=UTC:20251006T170000
DTSTAMP:20260425T214341
CREATED:20250613T154128Z
LAST-MODIFIED:20250613T154134Z
UID:10000279-1759719600-1759770000@www.heritagegolflinks.com
SUMMARY:Golf Outing
DESCRIPTION:
URL:https://www.heritagegolflinks.com/event/golf-outing-8/
END:VEVENT
BEGIN:VEVENT
DTSTART;TZID=UTC:20251002T060000
DTEND;TZID=UTC:20251002T170000
DTSTAMP:20260425T214341
CREATED:20250808T112008Z
LAST-MODIFIED:20250808T112010Z
UID:10000293-1759384800-1759424400@www.heritagegolflinks.com
SUMMARY:Golf Outing
DESCRIPTION:
URL:https://www.heritagegolflinks.com/event/golf-outing-19/
END:VEVENT
BEGIN:VEVENT
DTSTART;TZID=UTC:20250927T050000
DTEND;TZID=UTC:20250927T170000
DTSTAMP:20260425T214341
CREATED:20250721T152234Z
LAST-MODIFIED:20250721T152246Z
UID:10000287-1758949200-1758992400@www.heritagegolflinks.com
SUMMARY:Golf Outing
DESCRIPTION:
URL:https://www.heritagegolflinks.com/event/golf-outing-13/
END:VEVENT
BEGIN:VEVENT
DTSTART;TZID=UTC:20250925T050000
DTEND;TZID=UTC:20250925T183000
DTSTAMP:20260425T214341
CREATED:20250613T153730Z
LAST-MODIFIED:20250918T163146Z
UID:10000277-1758776400-1758825000@www.heritagegolflinks.com
SUMMARY:Golf Outing
DESCRIPTION:
URL:https://www.heritagegolflinks.com/event/golf-outing-6/
END:VEVENT
BEGIN:VEVENT
DTSTART;TZID=UTC:20250917T030000
DTEND;TZID=UTC:20250917T170000
DTSTAMP:20260425T214341
CREATED:20250613T153526Z
LAST-MODIFIED:20250613T153538Z
UID:10000276-1758078000-1758128400@www.heritagegolflinks.com
SUMMARY:Golf outing
DESCRIPTION:
URL:https://www.heritagegolflinks.com/event/golf-outing-5/
END:VEVENT
BEGIN:VEVENT
DTSTART;TZID=UTC:20250915T030000
DTEND;TZID=UTC:20250915T170000
DTSTAMP:20260425T214341
CREATED:20250613T153446Z
LAST-MODIFIED:20250613T153459Z
UID:10000275-1757905200-1757955600@www.heritagegolflinks.com
SUMMARY:Golf Outing
DESCRIPTION:
URL:https://www.heritagegolflinks.com/event/golf-outing-4/
END:VEVENT
BEGIN:VEVENT
DTSTART;TZID=UTC:20250903T080000
DTEND;TZID=UTC:20250903T170000
DTSTAMP:20260425T214341
CREATED:20250721T152144Z
LAST-MODIFIED:20250721T152145Z
UID:10000286-1756886400-1756918800@www.heritagegolflinks.com
SUMMARY:Aerify Heritage Greens
DESCRIPTION:
URL:https://www.heritagegolflinks.com/event/aerify-heritage-greens/
END:VEVENT
BEGIN:VEVENT
DTSTART;TZID=UTC:20250902T080000
DTEND;TZID=UTC:20250902T170000
DTSTAMP:20260425T214341
CREATED:20250721T152054Z
LAST-MODIFIED:20250721T152104Z
UID:10000285-1756800000-1756832400@www.heritagegolflinks.com
SUMMARY:Aerify Legacy Greens
DESCRIPTION:
URL:https://www.heritagegolflinks.com/event/aerify-legacy-greens/
END:VEVENT
BEGIN:VEVENT
DTSTART;TZID=UTC:20250822T053000
DTEND;TZID=UTC:20250822T140000
DTSTAMP:20260425T214341
CREATED:20250613T153400Z
LAST-MODIFIED:20250822T142755Z
UID:10000274-1755840600-1755871200@www.heritagegolflinks.com
SUMMARY:Golf Outing
DESCRIPTION:
URL:https://www.heritagegolflinks.com/event/golf-outing-3/
END:VEVENT
BEGIN:VEVENT
DTSTART;TZID=UTC:20250808T050000
DTEND;TZID=UTC:20250808T170000
DTSTAMP:20260425T214341
CREATED:20250721T151800Z
LAST-MODIFIED:20250721T151832Z
UID:10000284-1754629200-1754672400@www.heritagegolflinks.com
SUMMARY:Golf Outing
DESCRIPTION:Outing
URL:https://www.heritagegolflinks.com/event/576/
END:VEVENT
BEGIN:VEVENT
DTSTART;TZID=UTC:20250804T030000
DTEND;TZID=UTC:20250804T170000
DTSTAMP:20260425T214341
CREATED:20250613T152727Z
LAST-MODIFIED:20250613T152728Z
UID:10000273-1754276400-1754326800@www.heritagegolflinks.com
SUMMARY:Golf Outing
DESCRIPTION:
URL:https://www.heritagegolflinks.com/event/golf-outing-2/
END:VEVENT
BEGIN:VEVENT
DTSTART;TZID=UTC:20250801T043000
DTEND;TZID=UTC:20250801T170000
DTSTAMP:20260425T214341
CREATED:20250613T152650Z
LAST-MODIFIED:20250613T152659Z
UID:10000272-1754022600-1754067600@www.heritagegolflinks.com
SUMMARY:Golf Outing
DESCRIPTION:
URL:https://www.heritagegolflinks.com/event/golf-outing/
END:VEVENT
BEGIN:VEVENT
DTSTART;TZID=UTC:20250617T080000
DTEND;TZID=UTC:20250617T150000
DTSTAMP:20260425T214341
CREATED:20250613T151939Z
LAST-MODIFIED:20250613T152044Z
UID:10000010-1750147200-1750172400@www.heritagegolflinks.com
SUMMARY:US Kids Golf Tournament
DESCRIPTION:
URL:https://www.heritagegolflinks.com/event/us-kids-gout-tournament/
END:VEVENT
BEGIN:VEVENT
DTSTART;TZID=UTC:20250616T080000
DTEND;TZID=UTC:20250616T170000
DTSTAMP:20260425T214341
CREATED:20250613T151809Z
LAST-MODIFIED:20250613T151843Z
UID:10000009-1750060800-1750093200@www.heritagegolflinks.com
SUMMARY:Outing
DESCRIPTION:
URL:https://www.heritagegolflinks.com/event/outing-7/
END:VEVENT
BEGIN:VEVENT
DTSTART;TZID=UTC:20250524T160000
DTEND;TZID=UTC:20250524T190000
DTSTAMP:20260425T214341
CREATED:20250515T190602Z
LAST-MODIFIED:20250515T190604Z
UID:10000008-1748102400-1748113200@www.heritagegolflinks.com
SUMMARY:
DESCRIPTION:Join us for Music on the Patio Saturday 4:00 PM – 7:00 PM
URL:https://www.heritagegolflinks.com/event/429/
END:VEVENT
BEGIN:VEVENT
DTSTART;TZID=UTC:20250521T070000
DTEND;TZID=UTC:20250521T170000
DTSTAMP:20260425T214341
CREATED:20250426T153411Z
LAST-MODIFIED:20250426T153751Z
UID:10000007-1747810800-1747846800@www.heritagegolflinks.com
SUMMARY:Outing
DESCRIPTION:
URL:https://www.heritagegolflinks.com/event/outing-6/
END:VEVENT
BEGIN:VEVENT
DTSTART;TZID=UTC:20250519T070000
DTEND;TZID=UTC:20250519T170000
DTSTAMP:20260425T214341
CREATED:20250426T153340Z
LAST-MODIFIED:20250426T153341Z
UID:10000006-1747638000-1747674000@www.heritagegolflinks.com
SUMMARY:Outing
DESCRIPTION:
URL:https://www.heritagegolflinks.com/event/outing-5/
END:VEVENT
BEGIN:VEVENT
DTSTART;TZID=UTC:20250516T070000
DTEND;TZID=UTC:20250516T170000
DTSTAMP:20260425T214341
CREATED:20250426T153218Z
LAST-MODIFIED:20250426T153219Z
UID:10000005-1747378800-1747414800@www.heritagegolflinks.com
SUMMARY:Outing
DESCRIPTION:
URL:https://www.heritagegolflinks.com/event/outing-4/
END:VEVENT
BEGIN:VEVENT
DTSTART;TZID=UTC:20250513T070000
DTEND;TZID=UTC:20250513T090000
DTSTAMP:20260425T214341
CREATED:20250426T152242Z
LAST-MODIFIED:20250426T152801Z
UID:10000001-1747119600-1747126800@www.heritagegolflinks.com
SUMMARY:Course Fertilizing
DESCRIPTION:Course will not open till 9:00 AM and be cart path only all day
URL:https://www.heritagegolflinks.com/event/outing/
END:VEVENT
BEGIN:VEVENT
DTSTART;TZID=UTC:20250512T080000
DTEND;TZID=UTC:20250512T150000
DTSTAMP:20260425T214341
CREATED:20250426T153125Z
LAST-MODIFIED:20250426T153126Z
UID:10000004-1747036800-1747062000@www.heritagegolflinks.com
SUMMARY:Outing
DESCRIPTION:
URL:https://www.heritagegolflinks.com/event/outing-3/
END:VEVENT
BEGIN:VEVENT
DTSTART;TZID=UTC:20250502T100000
DTEND;TZID=UTC:20250502T150000
DTSTAMP:20260425T214341
CREATED:20250426T152900Z
LAST-MODIFIED:20250426T152901Z
UID:10000002-1746180000-1746198000@www.heritagegolflinks.com
SUMMARY:Srixon Demo Day
DESCRIPTION:Srixon Demo Day on the Driving Range
URL:https://www.heritagegolflinks.com/event/srixon-demo-day/
END:VEVENT
BEGIN:VEVENT
DTSTART;TZID=UTC:20250430T070000
DTEND;TZID=UTC:20250430T190000
DTSTAMP:20260425T214341
CREATED:20250426T153035Z
LAST-MODIFIED:20250426T153037Z
UID:10000003-1745996400-1746039600@www.heritagegolflinks.com
SUMMARY:Outing
DESCRIPTION:Course will be closed all day / Range will open at 10:00 AM
URL:https://www.heritagegolflinks.com/event/outing-2/
END:VEVENT
END:VCALENDAR